BEGIN:VCALENDAR
VERSION:2.0
METHOD:PUBLISH
PRODID:-//Agenda.ad//NONSGML v1.0//EN
BEGIN:VEVENT
CLASS:PUBLIC
UID:2e3825167372908b6b66178db0683fa2@agenda.ad
DTSTAMP:20260422T213328Z
DTSTART:20141105T230000Z
DTEND:20141105T230000Z
SUMMARY:Festival 30 Dies. Festival de Cinema Fant&agrave;stic a Andorra. '<strong>CANDLESTICK'</strong> Secci&oacute; oficial
DESCRIPTION:Sessió inaugural\n\nMés informació\nhttps://www.age
 nda.ad/activitat/escaldes-engordany/cinema/festival-30-dies-
 festival-de-cinema-fantastic-a-andorra-candlestick-seccio-of
 icial\nwww.30diesandorra.comfantastic@30diesandorra.com
LOCATION:Sala d’actes del Comú
SEQUENCE:0
TRANSP:OPAQUE
X-ALT-DESC;FMTTYPE=text/html:<!DOCTYPE HTML PUBLIC "-//W3C//DTD HTML 3.2//EN"><HTML><HEAD
 ><TITLE></TITLE></HEAD><BODY><FONT FACE="Arial" SIZE=2>Sessi
 &oacute; inaugural<br/><br/><b>Més informació</b><br/><a h
 ref="https://www.agenda.ad/activitat/escaldes-engordany/cine
 ma/festival-30-dies-festival-de-cinema-fantastic-a-andorra-c
 andlestick-seccio-oficial">https://www.agenda.ad/activitat/e
 scaldes-engordany/cinema/festival-30-dies-festival-de-cinema
 -fantastic-a-andorra-candlestick-seccio-oficial</a><br/>www.
 30diesandorra.comfantastic@30diesandorra.com</FONT></BODY></
 HTML>
END:VEVENT
END:VCALENDAR