BEGIN:VCALENDAR
VERSION:2.0
METHOD:PUBLISH
PRODID:-//Agenda.ad//NONSGML v1.0//EN
BEGIN:VEVENT
CLASS:PUBLIC
UID:82391df55c2c8d3ca615f5d16b1b877d@agenda.ad
DTSTAMP:20260424T082341Z
DTSTART:20191121T230000Z
DTEND:20191127T230000Z
SUMMARY:Programaci&oacute; dels Cinemes Illa Carlemany
DESCRIPTION:\n\nMés informació\nhttps://www.agenda.ad/activitat/escald
 es-engordany/cinema/programacio-dels-cinemes-illa-carlemany-
 11402\n
LOCATION:Cinemes Illa Carlemany
SEQUENCE:0
TRANSP:OPAQUE
X-ALT-DESC;FMTTYPE=text/html:<!DOCTYPE HTML PUBLIC "-//W3C//DTD HTML 3.2//EN"><HTML><HEAD
 ><TITLE></TITLE></HEAD><BODY><FONT FACE="Arial" SIZE=2><br/>
 <br/><b>Més informació</b><br/><a href="https://www.agenda
 .ad/activitat/escaldes-engordany/cinema/programacio-dels-cin
 emes-illa-carlemany-11402">https://www.agenda.ad/activitat/e
 scaldes-engordany/cinema/programacio-dels-cinemes-illa-carle
 many-11402</a><br/></FONT></BODY></HTML>
END:VEVENT
END:VCALENDAR