BEGIN:VCALENDAR
VERSION:2.0
METHOD:PUBLISH
PRODID:-//Agenda.ad//NONSGML v1.0//EN
BEGIN:VEVENT
CLASS:PUBLIC
UID:0a9c9a7df2bb7f32b3bb8d7fa491a279@agenda.ad
DTSTAMP:20260422T043037Z
DTSTART:20190204T230000Z
DTEND:20190204T230000Z
SUMMARY:<span><span>Projecci&oacute; de la pel&middot;li '</span></span>En libert&eacute;'
DESCRIPTION:\n\nMés informació\nhttps://www.agenda.ad/activitat/escald
 es-engordany/cinema/projeccio-de-la-pelli-en-liberte-\n\n\nO
 rganitza\nAliança Andorrano Francesa
LOCATION:Cinemes Illa Carlemany
SEQUENCE:0
TRANSP:OPAQUE
X-ALT-DESC;FMTTYPE=text/html:<!DOCTYPE HTML PUBLIC "-//W3C//DTD HTML 3.2//EN"><HTML><HEAD
 ><TITLE></TITLE></HEAD><BODY><FONT FACE="Arial" SIZE=2><br/>
 <br/><b>Més informació</b><br/><a href="https://www.agenda
 .ad/activitat/escaldes-engordany/cinema/projeccio-de-la-pell
 i-en-liberte-">https://www.agenda.ad/activitat/escaldes-engo
 rdany/cinema/projeccio-de-la-pelli-en-liberte-</a><br/><br/>
 <br/><b>Organitza</b><br/>Aliança Andorrano Francesa</FONT>
 </BODY></HTML>
END:VEVENT
END:VCALENDAR