BEGIN:VCALENDAR
VERSION:2.0
METHOD:PUBLISH
PRODID:-//Agenda.ad//NONSGML v1.0//EN
BEGIN:VEVENT
CLASS:PUBLIC
UID:c9d3d815194c487463dbe6543697f0a1@agenda.ad
DTSTAMP:20260424T092847Z
DTSTART:20191218T230000Z
DTEND:20191218T230000Z
SUMMARY:<span>Projecci&oacute; de la pel&middot;l&iacute;cula </span><span>"Les &eacute;blouis"</span>
DESCRIPTION:\n\nMés informació\nhttps://www.agenda.ad/activitat/escald
 es-engordany/cinema/projeccio-de-la-pellicula-les-eblouis\n\
 n\nOrganitza\nAliança Andorrano Francesa
LOCATION:Cinemes Illa Carlemany
SEQUENCE:0
TRANSP:OPAQUE
X-ALT-DESC;FMTTYPE=text/html:<!DOCTYPE HTML PUBLIC "-//W3C//DTD HTML 3.2//EN"><HTML><HEAD
 ><TITLE></TITLE></HEAD><BODY><FONT FACE="Arial" SIZE=2><br/>
 <br/><b>Més informació</b><br/><a href="https://www.agenda
 .ad/activitat/escaldes-engordany/cinema/projeccio-de-la-pell
 icula-les-eblouis">https://www.agenda.ad/activitat/escaldes-
 engordany/cinema/projeccio-de-la-pellicula-les-eblouis</a><b
 r/><br/><br/><b>Organitza</b><br/>Aliança Andorrano Frances
 a</FONT></BODY></HTML>
END:VEVENT
END:VCALENDAR