BEGIN:VCALENDAR
VERSION:2.0
METHOD:PUBLISH
PRODID:-//Agenda.ad//NONSGML v1.0//EN
BEGIN:VEVENT
CLASS:PUBLIC
UID:6ea7b9a8b1d6d061f148d6c5f742bc14@agenda.ad
DTSTAMP:20260424T082344Z
DTSTART:20191127T230000Z
DTEND:20191127T230000Z
SUMMARY:<p>Projecci&oacute; de la pel&middot;l&iacute;cula "Roubaix, une lumi&egrave;re"</p>
DESCRIPTION:\n\nMés informació\nhttps://www.agenda.ad/activitat/escald
 es-engordany/cinema/projeccio-de-la-pellicula-roubaix-une-lu
 miere\n\n\nOrganitza\nAliança Andorrano Francesa
LOCATION:Cinemes Illa Carlemany
SEQUENCE:0
TRANSP:OPAQUE
X-ALT-DESC;FMTTYPE=text/html:<!DOCTYPE HTML PUBLIC "-//W3C//DTD HTML 3.2//EN"><HTML><HEAD
 ><TITLE></TITLE></HEAD><BODY><FONT FACE="Arial" SIZE=2><br/>
 <br/><b>Més informació</b><br/><a href="https://www.agenda
 .ad/activitat/escaldes-engordany/cinema/projeccio-de-la-pell
 icula-roubaix-une-lumiere">https://www.agenda.ad/activitat/e
 scaldes-engordany/cinema/projeccio-de-la-pellicula-roubaix-u
 ne-lumiere</a><br/><br/><br/><b>Organitza</b><br/>Aliança A
 ndorrano Francesa</FONT></BODY></HTML>
END:VEVENT
END:VCALENDAR