BEGIN:VCALENDAR
VERSION:2.0
METHOD:PUBLISH
PRODID:-//Agenda.ad//NONSGML v1.0//EN
BEGIN:VEVENT
CLASS:PUBLIC
UID:8a69969904c60d8f3b1bca065068b839@agenda.ad
DTSTAMP:20260422T003825Z
DTSTART:20191015T220000Z
DTEND:20191015T220000Z
SUMMARY:'L'afecci&oacute; cr&ograve;nica tractable m&eacute;s com&uacute; en la inf&agrave;ncia &eacute;s la capacitat visual'
DESCRIPTION:Xerrada especial tornada al colÂ·le\n\nMÃ©s informaciÃ
 ³\nhttps://www.agenda.ad/activitat/escaldes-engordany/confer
 encies/-l-afeccio-cronica-tractable-mes-comu-en-la-infancia-
 es-la-capacitat-visual-\n\n\nOrganitza\nVallmedic Vision
LOCATION:Vallmedic Vision â€“ The International Eye Clinic
SEQUENCE:0
TRANSP:OPAQUE
X-ALT-DESC;FMTTYPE=text/html:<!DOCTYPE HTML PUBLIC "-//W3C//DTD HTML 3.2//EN"><HTML><HEAD
 ><TITLE></TITLE></HEAD><BODY><FONT FACE="Arial" SIZE=2><p>Xe
 rrada especial tornada al col&middot;le</p><br/><br/><b>MÃ©s
  informaciÃ³</b><br/><a href="https://www.agenda.ad/activita
 t/escaldes-engordany/conferencies/-l-afeccio-cronica-tractab
 le-mes-comu-en-la-infancia-es-la-capacitat-visual-">https://
 www.agenda.ad/activitat/escaldes-engordany/conferencies/-l-a
 feccio-cronica-tractable-mes-comu-en-la-infancia-es-la-capac
 itat-visual-</a><br/><br/><br/><b>Organitza</b><br/>Vallmedi
 c Vision</FONT></BODY></HTML>
END:VEVENT
END:VCALENDAR