BEGIN:VCALENDAR
VERSION:2.0
METHOD:PUBLISH
PRODID:-//Agenda.ad//NONSGML v1.0//EN
BEGIN:VEVENT
CLASS:PUBLIC
UID:9b8da1b6d39e95ea584d188b21bbb7b7@agenda.ad
DTSTAMP:20260422T015737Z
DTSTART:20191007T220000Z
DTEND:20200213T230000Z
SUMMARY:14a edici&oacute; Grup de mares i pares d&rsquo;adolescents
DESCRIPTION:Grup d’orientació i intercanvi per a mares i pa
 res d’adolescents.\n\nMés informació\nhttps://www.ag
 enda.ad/activitat/escaldes-engordany/conferencies/14a-edicio
 -grup-de-mares-i-pares-dadolescents\nwww.e-e.ad 890 882
 joventut@e-e.ad\n\nOrganitza\nComú d'Escaldes-Engordany
LOCATION:Espai Jovent del Comú d'Escaldes-Engordany
SEQUENCE:0
TRANSP:OPAQUE
X-ALT-DESC;FMTTYPE=text/html:<!DOCTYPE HTML PUBLIC "-//W3C//DTD HTML 3.2//EN"><HTML><HEAD
 ><TITLE></TITLE></HEAD><BODY><FONT FACE="Arial" SIZE=2>Grup 
 d&rsquo;orientaci&oacute; i intercanvi per a mares i pares d
 &rsquo;adolescents.<br/><br/><b>Més informació</b><br/><a 
 href="https://www.agenda.ad/activitat/escaldes-engordany/con
 ferencies/14a-edicio-grup-de-mares-i-pares-dadolescents">htt
 ps://www.agenda.ad/activitat/escaldes-engordany/conferencies
 /14a-edicio-grup-de-mares-i-pares-dadolescents</a><br/>www.e
 -e.ad&nbsp;890 882joventut@e-e.ad<br/><br/><b>Organitza</b><
 br/>Comú d'Escaldes-Engordany</FONT></BODY></HTML>
END:VEVENT
END:VCALENDAR