BEGIN:VCALENDAR
VERSION:2.0
METHOD:PUBLISH
PRODID:-//Agenda.ad//NONSGML v1.0//EN
BEGIN:VEVENT
CLASS:PUBLIC
UID:b103c0d4e4150b21ad924b47a3fa202d@agenda.ad
DTSTAMP:20260422T004145Z
DTSTART:20191017T220000Z
DTEND:20191017T220000Z
SUMMARY:Andorra i el patrimoni mundial de la Unesco. Hist&ograve;ria i perspectives
DESCRIPTION:\n\nMés informació\nhttps://www.agenda.ad/activitat/escald
 es-engordany/conferencies/andorra-i-el-patrimoni-mundial-de-
 la-unesco-historia-i-perspectives\n\n\nOrganitza\nInstitut d
 ’Estudis Andorrans
LOCATION:Biblioteca Comunal d'Escaldes-Engordany
SEQUENCE:0
TRANSP:OPAQUE
X-ALT-DESC;FMTTYPE=text/html:<!DOCTYPE HTML PUBLIC "-//W3C//DTD HTML 3.2//EN"><HTML><HEAD
 ><TITLE></TITLE></HEAD><BODY><FONT FACE="Arial" SIZE=2><br/>
 <br/><b>Més informació</b><br/><a href="https://www.agenda
 .ad/activitat/escaldes-engordany/conferencies/andorra-i-el-p
 atrimoni-mundial-de-la-unesco-historia-i-perspectives">https
 ://www.agenda.ad/activitat/escaldes-engordany/conferencies/a
 ndorra-i-el-patrimoni-mundial-de-la-unesco-historia-i-perspe
 ctives</a><br/><br/><br/><b>Organitza</b><br/>Institut d’E
 studis Andorrans</FONT></BODY></HTML>
END:VEVENT
END:VCALENDAR