BEGIN:VCALENDAR
VERSION:2.0
METHOD:PUBLISH
PRODID:-//Agenda.ad//NONSGML v1.0//EN
BEGIN:VEVENT
CLASS:PUBLIC
UID:c69dfa97ff23914d8863a033d643b83e@agenda.ad
DTSTAMP:20260419T174415Z
DTSTART:20260320T230000Z
DTEND:20260320T230000Z
SUMMARY:Confer&egrave;ncia de David Corber&agrave; a Andorra 'Reg&aacute;late ser t&uacute;'
DESCRIPTION:\n\nMés informació\nhttps://www.agenda.ad/activitat/escald
 es-engordany/conferencies/conferencia-de-david-corbera-a-and
 orra-regalate-ser-tu-\nwww.naimanweb.com\n\nOrganitza\nNaima
 n Events
LOCATION:Sala d’actes del Comú
SEQUENCE:0
TRANSP:OPAQUE
X-ALT-DESC;FMTTYPE=text/html:<!DOCTYPE HTML PUBLIC "-//W3C//DTD HTML 3.2//EN"><HTML><HEAD
 ><TITLE></TITLE></HEAD><BODY><FONT FACE="Arial" SIZE=2><br/>
 <br/><b>Més informació</b><br/><a href="https://www.agenda
 .ad/activitat/escaldes-engordany/conferencies/conferencia-de
 -david-corbera-a-andorra-regalate-ser-tu-">https://www.agend
 a.ad/activitat/escaldes-engordany/conferencies/conferencia-d
 e-david-corbera-a-andorra-regalate-ser-tu-</a><br/>www.naima
 nweb.com<br/><br/><b>Organitza</b><br/>Naiman Events</FONT><
 /BODY></HTML>
END:VEVENT
END:VCALENDAR