BEGIN:VCALENDAR
VERSION:2.0
METHOD:PUBLISH
PRODID:-//Agenda.ad//NONSGML v1.0//EN
BEGIN:VEVENT
CLASS:PUBLIC
UID:c99738a4886cc43f288efbb3ff4a7fc7@agenda.ad
DTSTAMP:20260422T003751Z
DTSTART:20191014T220000Z
DTEND:20191014T220000Z
SUMMARY:<div>
<p>'La clau'. Apunts d&rsquo;art &middot; 5a edici&oacute;</p>
</div>
DESCRIPTION:\n\nMés informació\nhttps://www.agenda.ad/activitat/escald
 es-engordany/conferencies/la-clau-apunts-dart-5a-edicio\n\n\
 nOrganitza\nComú d'Escaldes-Engordany
LOCATION:Centre d'Art d'Escaldes-Engordany
SEQUENCE:0
TRANSP:OPAQUE
X-ALT-DESC;FMTTYPE=text/html:<!DOCTYPE HTML PUBLIC "-//W3C//DTD HTML 3.2//EN"><HTML><HEAD
 ><TITLE></TITLE></HEAD><BODY><FONT FACE="Arial" SIZE=2><br/>
 <br/><b>Més informació</b><br/><a href="https://www.agenda
 .ad/activitat/escaldes-engordany/conferencies/la-clau-apunts
 -dart-5a-edicio">https://www.agenda.ad/activitat/escaldes-en
 gordany/conferencies/la-clau-apunts-dart-5a-edicio</a><br/><
 br/><br/><b>Organitza</b><br/>Comú d'Escaldes-Engordany</FO
 NT></BODY></HTML>
END:VEVENT
END:VCALENDAR