BEGIN:VCALENDAR
VERSION:2.0
METHOD:PUBLISH
PRODID:-//Agenda.ad//NONSGML v1.0//EN
BEGIN:VEVENT
CLASS:PUBLIC
UID:64a9e779f655f34b2d96401b28175560@agenda.ad
DTSTAMP:20260424T083319Z
DTSTART:20191111T230000Z
DTEND:20191111T230000Z
SUMMARY:<span>'La clau'. Apunts d&rsquo;art &middot; 5a edici&oacute;</span>
DESCRIPTION:\n\nMés informació\nhttps://www.agenda.ad/activitat/escald
 es-engordany/conferencies/la-clau-apunts-dart-5a-edicio-1110
 2\n\n\nOrganitza\nComú d'Escaldes-Engordany
LOCATION:Centre d'Art d'Escaldes-Engordany
SEQUENCE:0
TRANSP:OPAQUE
X-ALT-DESC;FMTTYPE=text/html:<!DOCTYPE HTML PUBLIC "-//W3C//DTD HTML 3.2//EN"><HTML><HEAD
 ><TITLE></TITLE></HEAD><BODY><FONT FACE="Arial" SIZE=2><br/>
 <br/><b>Més informació</b><br/><a href="https://www.agenda
 .ad/activitat/escaldes-engordany/conferencies/la-clau-apunts
 -dart-5a-edicio-11102">https://www.agenda.ad/activitat/escal
 des-engordany/conferencies/la-clau-apunts-dart-5a-edicio-111
 02</a><br/><br/><br/><b>Organitza</b><br/>Comú d'Escaldes-E
 ngordany</FONT></BODY></HTML>
END:VEVENT
END:VCALENDAR