BEGIN:VCALENDAR
VERSION:2.0
METHOD:PUBLISH
PRODID:-//Agenda.ad//NONSGML v1.0//EN
BEGIN:VEVENT
CLASS:PUBLIC
UID:9d8c669e887e7bf5d970b43f1628ede9@agenda.ad
DTSTAMP:20260422T003756Z
DTSTART:20191013T220000Z
DTEND:20191013T220000Z
SUMMARY:<h1>Pirineus: una fauna adaptada a un medi exigent</h1>
DESCRIPTION:\n\nMés informació\nhttps://www.agenda.ad/activitat/escald
 es-engordany/conferencies/pirineus-una-fauna-adaptada-a-un-m
 edi-exigent\n\n\nOrganitza\nInstitut d’Estudis Andorrans
LOCATION:Sala d’actes del Comú
SEQUENCE:0
TRANSP:OPAQUE
X-ALT-DESC;FMTTYPE=text/html:<!DOCTYPE HTML PUBLIC "-//W3C//DTD HTML 3.2//EN"><HTML><HEAD
 ><TITLE></TITLE></HEAD><BODY><FONT FACE="Arial" SIZE=2><br/>
 <br/><b>Més informació</b><br/><a href="https://www.agenda
 .ad/activitat/escaldes-engordany/conferencies/pirineus-una-f
 auna-adaptada-a-un-medi-exigent">https://www.agenda.ad/activ
 itat/escaldes-engordany/conferencies/pirineus-una-fauna-adap
 tada-a-un-medi-exigent</a><br/><br/><br/><b>Organitza</b><br
 />Institut d’Estudis Andorrans</FONT></BODY></HTML>
END:VEVENT
END:VCALENDAR