BEGIN:VCALENDAR
VERSION:2.0
METHOD:PUBLISH
PRODID:-//Agenda.ad//NONSGML v1.0//EN
BEGIN:VEVENT
CLASS:PUBLIC
UID:a64f769fa24073efd5e17837a2e2839b@agenda.ad
DTSTAMP:20260424T095726Z
DTSTART:20260428T220000Z
DTEND:20260428T220000Z
SUMMARY:<span lang="ES-TRAD">Xerrada '<span lang="FR">Qu&egrave; &eacute;s, i que no, tenir altes capacitats</span>'</span>
DESCRIPTION:\n\nMés informació\nhttps://www.agenda.ad/activitat/escald
 es-engordany/conferencies/xerrada-que-es-i-que-no-tenir-alte
 s-capacitats-\n
LOCATION:Hotel Roc Blanc
SEQUENCE:0
TRANSP:OPAQUE
X-ALT-DESC;FMTTYPE=text/html:<!DOCTYPE HTML PUBLIC "-//W3C//DTD HTML 3.2//EN"><HTML><HEAD
 ><TITLE></TITLE></HEAD><BODY><FONT FACE="Arial" SIZE=2><br/>
 <br/><b>Més informació</b><br/><a href="https://www.agenda
 .ad/activitat/escaldes-engordany/conferencies/xerrada-que-es
 -i-que-no-tenir-altes-capacitats-">https://www.agenda.ad/act
 ivitat/escaldes-engordany/conferencies/xerrada-que-es-i-que-
 no-tenir-altes-capacitats-</a><br/></FONT></BODY></HTML>
END:VEVENT
END:VCALENDAR