BEGIN:VCALENDAR
VERSION:2.0
METHOD:PUBLISH
PRODID:-//Agenda.ad//NONSGML v1.0//EN
BEGIN:VEVENT
CLASS:PUBLIC
UID:9089953e93a8b79e40a87fadbae4965d@agenda.ad
DTSTAMP:20260419T203228Z
DTSTART:20260220T230000Z
DTEND:20260227T230000Z
SUMMARY:Curs m&ograve;dul 1 'T&egrave;cnica estructural'
DESCRIPTION:\n\nMés informació\nhttps://www.agenda.ad/activitat/escald
 es-engordany/cursos-i-tallers/curs-modul-1-tecnica-estructur
 al-\n\n\nOrganitza\nHotel Roc Blanc
LOCATION:Hotel Roc Blanc
SEQUENCE:0
TRANSP:OPAQUE
X-ALT-DESC;FMTTYPE=text/html:<!DOCTYPE HTML PUBLIC "-//W3C//DTD HTML 3.2//EN"><HTML><HEAD
 ><TITLE></TITLE></HEAD><BODY><FONT FACE="Arial" SIZE=2><br/>
 <br/><b>Més informació</b><br/><a href="https://www.agenda
 .ad/activitat/escaldes-engordany/cursos-i-tallers/curs-modul
 -1-tecnica-estructural-">https://www.agenda.ad/activitat/esc
 aldes-engordany/cursos-i-tallers/curs-modul-1-tecnica-estruc
 tural-</a><br/><br/><br/><b>Organitza</b><br/>Hotel Roc Blan
 c</FONT></BODY></HTML>
END:VEVENT
END:VCALENDAR