BEGIN:VCALENDAR
VERSION:2.0
METHOD:PUBLISH
PRODID:-//Agenda.ad//NONSGML v1.0//EN
BEGIN:VEVENT
CLASS:PUBLIC
UID:896c1367fd6452c1989842e774bf4b00@agenda.ad
DTSTAMP:20260419T202041Z
DTSTART:20260306T230000Z
DTEND:20260307T230000Z
SUMMARY:Curs 'M&ograve;dul 1: T&egrave;cnica estructural'
DESCRIPTION:\n\nMés informació\nhttps://www.agenda.ad/activitat/escald
 es-engordany/cursos-i-tallers/curs-modul-1-tecnica-estructur
 al--23668\n
LOCATION:Hotel Roc Blanc
SEQUENCE:0
TRANSP:OPAQUE
X-ALT-DESC;FMTTYPE=text/html:<!DOCTYPE HTML PUBLIC "-//W3C//DTD HTML 3.2//EN"><HTML><HEAD
 ><TITLE></TITLE></HEAD><BODY><FONT FACE="Arial" SIZE=2><br/>
 <br/><b>Més informació</b><br/><a href="https://www.agenda
 .ad/activitat/escaldes-engordany/cursos-i-tallers/curs-modul
 -1-tecnica-estructural--23668">https://www.agenda.ad/activit
 at/escaldes-engordany/cursos-i-tallers/curs-modul-1-tecnica-
 estructural--23668</a><br/></FONT></BODY></HTML>
END:VEVENT
END:VCALENDAR