BEGIN:VCALENDAR
VERSION:2.0
METHOD:PUBLISH
PRODID:-//Agenda.ad//NONSGML v1.0//EN
BEGIN:VEVENT
CLASS:PUBLIC
UID:88f841de242acf022a7da2ab8609fe11@agenda.ad
DTSTAMP:20260424T105448Z
DTSTART:20191201T230000Z
DTEND:20191207T230000Z
SUMMARY:<span>'Al sol que bat la penya'</span>
DESCRIPTION:Inauguració: dilluns 2 de desembre,a  les 20 h\n
 \nMés informació\nhttps://www.agenda.ad/activitat/escaldes
 -engordany/exposicions/-al-sol-que-bat-la-penya-\n\n\nOrgani
 tza\nLa Xarranca
LOCATION:La Peixera
SEQUENCE:0
TRANSP:OPAQUE
X-ALT-DESC;FMTTYPE=text/html:<!DOCTYPE HTML PUBLIC "-//W3C//DTD HTML 3.2//EN"><HTML><HEAD
 ><TITLE></TITLE></HEAD><BODY><FONT FACE="Arial" SIZE=2><stro
 ng>Inauguraci&oacute;:</strong> dilluns 2 de desembre,a&nbsp
 ; les 20 h<br/><br/><b>Més informació</b><br/><a href="htt
 ps://www.agenda.ad/activitat/escaldes-engordany/exposicions/
 -al-sol-que-bat-la-penya-">https://www.agenda.ad/activitat/e
 scaldes-engordany/exposicions/-al-sol-que-bat-la-penya-</a><
 br/><br/><br/><b>Organitza</b><br/>La Xarranca</FONT></BODY>
 </HTML>
END:VEVENT
END:VCALENDAR