BEGIN:VCALENDAR
VERSION:2.0
METHOD:PUBLISH
PRODID:-//Agenda.ad//NONSGML v1.0//EN
BEGIN:VEVENT
CLASS:PUBLIC
UID:2e3f24b67632965c471c39c5d9dc1619@agenda.ad
DTSTAMP:20260424T095349Z
DTSTART:20191209T230000Z
DTEND:20191219T230000Z
SUMMARY:'Castellers d'Andorra. 5 anys fent pinya'
DESCRIPTION:5è aniversari dels Castellers d’Andorra.\n\nMé
 s informació\nhttps://www.agenda.ad/activitat/escaldes-engo
 rdany/exposicions/-castellers-d-andorra-5-anys-fent-pinya--1
 1399\n\n\nOrganitza\nCastellers d'Andorra
LOCATION:Espai Jovent del Comú d'Escaldes-Engordany
SEQUENCE:0
TRANSP:OPAQUE
X-ALT-DESC;FMTTYPE=text/html:<!DOCTYPE HTML PUBLIC "-//W3C//DTD HTML 3.2//EN"><HTML><HEAD
 ><TITLE></TITLE></HEAD><BODY><FONT FACE="Arial" SIZE=2>5&egr
 ave; aniversari dels Castellers d&rsquo;Andorra.<br/><br/><b
 >Més informació</b><br/><a href="https://www.agenda.ad/act
 ivitat/escaldes-engordany/exposicions/-castellers-d-andorra-
 5-anys-fent-pinya--11399">https://www.agenda.ad/activitat/es
 caldes-engordany/exposicions/-castellers-d-andorra-5-anys-fe
 nt-pinya--11399</a><br/><br/><br/><b>Organitza</b><br/>Caste
 llers d'Andorra</FONT></BODY></HTML>
END:VEVENT
END:VCALENDAR