BEGIN:VCALENDAR
VERSION:2.0
METHOD:PUBLISH
PRODID:-//Agenda.ad//NONSGML v1.0//EN
BEGIN:VEVENT
CLASS:PUBLIC
UID:9ef258f9e8355abbb2457fe1ce2b4492@agenda.ad
DTSTAMP:20260424T120428Z
DTSTART:20191204T230000Z
DTEND:20191213T230000Z
SUMMARY:<strong>'DENUNCIO'</strong>
DESCRIPTION:De Joan Massana.\n\nMés informació\nhttps://www.agend
 a.ad/activitat/escaldes-engordany/exposicions/-denuncio-\nGa
 leria Art al setAvda. Carlemany, 95 (Les Closes) AD700 Escal
 des-EngordanyTel.: (+376) 868 355 artalset@artalset.com www.
 artalset.com\n\nOrganitza\nArt al Set Galeria
LOCATION:Art al Set Galeria
SEQUENCE:0
TRANSP:OPAQUE
X-ALT-DESC;FMTTYPE=text/html:<!DOCTYPE HTML PUBLIC "-//W3C//DTD HTML 3.2//EN"><HTML><HEAD
 ><TITLE></TITLE></HEAD><BODY><FONT FACE="Arial" SIZE=2>De&nb
 sp;<span>Joan Massana.</span><br/><br/><b>Més informació</
 b><br/><a href="https://www.agenda.ad/activitat/escaldes-eng
 ordany/exposicions/-denuncio-">https://www.agenda.ad/activit
 at/escaldes-engordany/exposicions/-denuncio-</a><br/>Galeria
  Art al setAvda. Carlemany, 95 (Les Closes) AD700 Escaldes-E
 ngordanyTel.: (+376) 868 355 artalset@artalset.com www.artal
 set.com<br/><br/><b>Organitza</b><br/>Art al Set Galeria</FO
 NT></BODY></HTML>
END:VEVENT
END:VCALENDAR