BEGIN:VCALENDAR
VERSION:2.0
METHOD:PUBLISH
PRODID:-//Agenda.ad//NONSGML v1.0//EN
BEGIN:VEVENT
CLASS:PUBLIC
UID:ddca28d2ce3cbeeb89f2216fe814723c@agenda.ad
DTSTAMP:20260419T190331Z
DTSTART:20251203T230000Z
DTEND:20260313T230000Z
SUMMARY:<p>Exposici&oacute; "Les figures de l&rsquo;&eacute;mancipation" C215 artista urb&agrave;</p>
DESCRIPTION:\n\nMés informació\nhttps://www.agenda.ad/activitat/escald
 es-engordany/exposicions/exposicio-les-figures-de-lemancipat
 ion-c215-artista-urba\nhttps://ad.ambafrance.org/-Francais-\
 n\nOrganitza\nAmbassade de France en Andorre, Comú Escaldes
 -Engordany
LOCATION:Espai Caldes
SEQUENCE:0
TRANSP:OPAQUE
X-ALT-DESC;FMTTYPE=text/html:<!DOCTYPE HTML PUBLIC "-//W3C//DTD HTML 3.2//EN"><HTML><HEAD
 ><TITLE></TITLE></HEAD><BODY><FONT FACE="Arial" SIZE=2><br/>
 <br/><b>Més informació</b><br/><a href="https://www.agenda
 .ad/activitat/escaldes-engordany/exposicions/exposicio-les-f
 igures-de-lemancipation-c215-artista-urba">https://www.agend
 a.ad/activitat/escaldes-engordany/exposicions/exposicio-les-
 figures-de-lemancipation-c215-artista-urba</a><br/>https://a
 d.ambafrance.org/-Francais-<br/><br/><b>Organitza</b><br/>Am
 bassade de France en Andorre, Comú Escaldes-Engordany</FONT
 ></BODY></HTML>
END:VEVENT
END:VCALENDAR