BEGIN:VCALENDAR
VERSION:2.0
METHOD:PUBLISH
PRODID:-//Agenda.ad//NONSGML v1.0//EN
BEGIN:VEVENT
CLASS:PUBLIC
UID:979cd3f720e5c52738c25a4e5587e9a9@agenda.ad
DTSTAMP:20260424T095349Z
DTSTART:20191208T230000Z
DTEND:20191208T230000Z
SUMMARY:<span>Inauguraci&oacute; de la segona de les obres inscrites en el Projecte Haiku</span>
DESCRIPTION:\n\nMés informació\nhttps://www.agenda.ad/activitat/escald
 es-engordany/exposicions/inauguracio-de-la-segona-de-les-obr
 es-inscrites-en-el-projecte-haiku\n\n\nOrganitza\nLa Peixera
LOCATION:La Peixera
SEQUENCE:0
TRANSP:OPAQUE
X-ALT-DESC;FMTTYPE=text/html:<!DOCTYPE HTML PUBLIC "-//W3C//DTD HTML 3.2//EN"><HTML><HEAD
 ><TITLE></TITLE></HEAD><BODY><FONT FACE="Arial" SIZE=2><br/>
 <br/><b>Més informació</b><br/><a href="https://www.agenda
 .ad/activitat/escaldes-engordany/exposicions/inauguracio-de-
 la-segona-de-les-obres-inscrites-en-el-projecte-haiku">https
 ://www.agenda.ad/activitat/escaldes-engordany/exposicions/in
 auguracio-de-la-segona-de-les-obres-inscrites-en-el-projecte
 -haiku</a><br/><br/><br/><b>Organitza</b><br/>La Peixera</FO
 NT></BODY></HTML>
END:VEVENT
END:VCALENDAR