BEGIN:VCALENDAR
VERSION:2.0
METHOD:PUBLISH
PRODID:-//Agenda.ad//NONSGML v1.0//EN
BEGIN:VEVENT
CLASS:PUBLIC
UID:aa115bacf32bcb2ad25761d0bf7a356f@agenda.ad
DTSTAMP:20260419T202217Z
DTSTART:20260211T230000Z
DTEND:20260227T230000Z
SUMMARY:Inauguraci&oacute; de l&rsquo;exposici&oacute; 'AFTERMATH' de l'artista Axel Traverso
DESCRIPTION:\n\nMés informació\nhttps://www.agenda.ad/activitat/escald
 es-engordany/exposicions/inauguracio-de-lexposicio-aftermath
 -de-l-artista-axel-traverso\nhttps://curated.artalistic.com 
 / @artalistic_curated\n\nOrganitza\nArtalistic Curated – M
 aison d’Art Contemporain
LOCATION:Art al Set Galeria
SEQUENCE:0
TRANSP:OPAQUE
X-ALT-DESC;FMTTYPE=text/html:<!DOCTYPE HTML PUBLIC "-//W3C//DTD HTML 3.2//EN"><HTML><HEAD
 ><TITLE></TITLE></HEAD><BODY><FONT FACE="Arial" SIZE=2><br/>
 <br/><b>Més informació</b><br/><a href="https://www.agenda
 .ad/activitat/escaldes-engordany/exposicions/inauguracio-de-
 lexposicio-aftermath-de-l-artista-axel-traverso">https://www
 .agenda.ad/activitat/escaldes-engordany/exposicions/inaugura
 cio-de-lexposicio-aftermath-de-l-artista-axel-traverso</a><b
 r/>https://curated.artalistic.com / @artalistic_curated<br/>
 <br/><b>Organitza</b><br/>Artalistic Curated – Maison d’
 Art Contemporain</FONT></BODY></HTML>
END:VEVENT
END:VCALENDAR