BEGIN:VCALENDAR
VERSION:2.0
METHOD:PUBLISH
PRODID:-//Agenda.ad//NONSGML v1.0//EN
BEGIN:VEVENT
CLASS:PUBLIC
UID:a8b8c827d2ac55e5e8db98e1c2449293@agenda.ad
DTSTAMP:20260422T015737Z
DTSTART:20191006T220000Z
DTEND:20191019T220000Z
SUMMARY:<span>PIRIBUS &ldquo;Viatge al cor dels Pirineus&rdquo;</span>
DESCRIPTION:\n\nMés informació\nhttps://www.agenda.ad/activitat/escald
 es-engordany/exposicions/piribus-“viatge-al-cor-dels-pirin
 eus”\nwww.cenma.ad (+376) 742 630\n\nOrganitza\nCentr
 e d’Estudis de la Neu i de la Muntanya d’Andorra, de l
 Institut d’Estudis Andorrans
LOCATION:Parc infantil
SEQUENCE:0
TRANSP:OPAQUE
X-ALT-DESC;FMTTYPE=text/html:<!DOCTYPE HTML PUBLIC "-//W3C//DTD HTML 3.2//EN"><HTML><HEAD
 ><TITLE></TITLE></HEAD><BODY><FONT FACE="Arial" SIZE=2><br/>
 <br/><b>Més informació</b><br/><a href="https://www.agenda
 .ad/activitat/escaldes-engordany/exposicions/piribus-“viat
 ge-al-cor-dels-pirineus”">https://www.agenda.ad/activitat/
 escaldes-engordany/exposicions/piribus-“viatge-al-cor-dels
 -pirineus”</a><br/>www.cenma.ad&nbsp;(+376) 742 630<br/><b
 r/><b>Organitza</b><br/>Centre d’Estudis de la Neu i de la
  Muntanya d’Andorra, de l’Institut d’Estudis Andorrans
 </FONT></BODY></HTML>
END:VEVENT
END:VCALENDAR