BEGIN:VCALENDAR
VERSION:2.0
METHOD:PUBLISH
PRODID:-//Agenda.ad//NONSGML v1.0//EN
BEGIN:VEVENT
CLASS:PUBLIC
UID:399b85bd31c97925d63fd222e81326bc@agenda.ad
DTSTAMP:20260424T071059Z
DTSTART:20191124T230000Z
DTEND:20200124T230000Z
SUMMARY:<span>UNIVERS PLAYMOBIL</span>
DESCRIPTION:\n\nMés informació\nhttps://www.agenda.ad/activitat/escald
 es-engordany/exposicions/univers-playmobil\n\n\nOrganitza\nC
 omú d'Escaldes-Engordany
LOCATION:Centre d'Art d'Escaldes-Engordany
SEQUENCE:0
TRANSP:OPAQUE
X-ALT-DESC;FMTTYPE=text/html:<!DOCTYPE HTML PUBLIC "-//W3C//DTD HTML 3.2//EN"><HTML><HEAD
 ><TITLE></TITLE></HEAD><BODY><FONT FACE="Arial" SIZE=2><br/>
 <br/><b>Més informació</b><br/><a href="https://www.agenda
 .ad/activitat/escaldes-engordany/exposicions/univers-playmob
 il">https://www.agenda.ad/activitat/escaldes-engordany/expos
 icions/univers-playmobil</a><br/><br/><br/><b>Organitza</b><
 br/>Comú d'Escaldes-Engordany</FONT></BODY></HTML>
END:VEVENT
END:VCALENDAR