BEGIN:VCALENDAR
VERSION:2.0
METHOD:PUBLISH
PRODID:-//Agenda.ad//NONSGML v1.0//EN
BEGIN:VEVENT
CLASS:PUBLIC
UID:a574f416dbee7507558930a478c10015@agenda.ad
DTSTAMP:20260419T163632Z
DTSTART:20260121T230000Z
DTEND:20260405T220000Z
SUMMARY:Van Gogh Alive Andorra 2026
DESCRIPTION:\n\nMés informació\nhttps://www.agenda.ad/activitat/escald
 es-engordany/exposicions/van-gogh-alive-andorra-2026\n\n\nOr
 ganitza\nWhynot i Grande Experiences
LOCATION:Sala Prat del Roure
SEQUENCE:0
TRANSP:OPAQUE
X-ALT-DESC;FMTTYPE=text/html:<!DOCTYPE HTML PUBLIC "-//W3C//DTD HTML 3.2//EN"><HTML><HEAD
 ><TITLE></TITLE></HEAD><BODY><FONT FACE="Arial" SIZE=2><br/>
 <br/><b>Més informació</b><br/><a href="https://www.agenda
 .ad/activitat/escaldes-engordany/exposicions/van-gogh-alive-
 andorra-2026">https://www.agenda.ad/activitat/escaldes-engor
 dany/exposicions/van-gogh-alive-andorra-2026</a><br/><br/><b
 r/><b>Organitza</b><br/>Whynot i Grande Experiences</FONT></
 BODY></HTML>
END:VEVENT
END:VCALENDAR