BEGIN:VCALENDAR
VERSION:2.0
METHOD:PUBLISH
PRODID:-//Agenda.ad//NONSGML v1.0//EN
BEGIN:VEVENT
CLASS:PUBLIC
UID:6643422ad4c146ecab4190d6fedafbbb@agenda.ad
DTSTAMP:20260424T085721Z
DTSTART:20191128T230000Z
DTEND:20191128T230000Z
SUMMARY:Encesa de les llums de Nadal
DESCRIPTION:\n\nMés informació\nhttps://www.agenda.ad/activitat/escald
 es-engordany/festes-i-tradicions/encesa-de-les-llums-de-nada
 l\n
LOCATION:Plaça Coprínceps
SEQUENCE:0
TRANSP:OPAQUE
X-ALT-DESC;FMTTYPE=text/html:<!DOCTYPE HTML PUBLIC "-//W3C//DTD HTML 3.2//EN"><HTML><HEAD
 ><TITLE></TITLE></HEAD><BODY><FONT FACE="Arial" SIZE=2><br/>
 <br/><b>Més informació</b><br/><a href="https://www.agenda
 .ad/activitat/escaldes-engordany/festes-i-tradicions/encesa-
 de-les-llums-de-nadal">https://www.agenda.ad/activitat/escal
 des-engordany/festes-i-tradicions/encesa-de-les-llums-de-nad
 al</a><br/></FONT></BODY></HTML>
END:VEVENT
END:VCALENDAR