BEGIN:VCALENDAR
VERSION:2.0
METHOD:PUBLISH
PRODID:-//Agenda.ad//NONSGML v1.0//EN
BEGIN:VEVENT
CLASS:PUBLIC
UID:524f76750f622d5879f01cdb2433cccc@agenda.ad
DTSTAMP:20260419T174614Z
DTSTART:20260324T230000Z
DTEND:20260324T230000Z
SUMMARY:Poesia sense por, a c&agrave;rrec d'Eva Arasa
DESCRIPTION:\n\nMés informació\nhttps://www.agenda.ad/activitat/escald
 es-engordany/lletres/poesia-sense-por-a-carrec-d-eva-arasa\n
LOCATION:Biblioteca Comunal d'Escaldes-Engordany
SEQUENCE:0
TRANSP:OPAQUE
X-ALT-DESC;FMTTYPE=text/html:<!DOCTYPE HTML PUBLIC "-//W3C//DTD HTML 3.2//EN"><HTML><HEAD
 ><TITLE></TITLE></HEAD><BODY><FONT FACE="Arial" SIZE=2><br/>
 <br/><b>Més informació</b><br/><a href="https://www.agenda
 .ad/activitat/escaldes-engordany/lletres/poesia-sense-por-a-
 carrec-d-eva-arasa">https://www.agenda.ad/activitat/escaldes
 -engordany/lletres/poesia-sense-por-a-carrec-d-eva-arasa</a>
 <br/></FONT></BODY></HTML>
END:VEVENT
END:VCALENDAR