BEGIN:VCALENDAR
VERSION:2.0
METHOD:PUBLISH
PRODID:-//Agenda.ad//NONSGML v1.0//EN
BEGIN:VEVENT
CLASS:PUBLIC
UID:66caf8f7dc8327334eb3b248c409d1b1@agenda.ad
DTSTAMP:20260419T174701Z
DTSTART:20260318T230000Z
DTEND:20260318T230000Z
SUMMARY:Presentaci&oacute; del llibre AMB VEU DE DONA de Jordi Novell i Maria Picass&oacute;
DESCRIPTION:\n\nMés informació\nhttps://www.agenda.ad/activitat/escald
 es-engordany/lletres/presentacio-del-llibre-amb-veu-de-dona-
 de-jordi-novell-i-maria-picasso\n
LOCATION:Biblioteca Comunal d'Escaldes-Engordany
SEQUENCE:0
TRANSP:OPAQUE
X-ALT-DESC;FMTTYPE=text/html:<!DOCTYPE HTML PUBLIC "-//W3C//DTD HTML 3.2//EN"><HTML><HEAD
 ><TITLE></TITLE></HEAD><BODY><FONT FACE="Arial" SIZE=2><br/>
 <br/><b>Més informació</b><br/><a href="https://www.agenda
 .ad/activitat/escaldes-engordany/lletres/presentacio-del-lli
 bre-amb-veu-de-dona-de-jordi-novell-i-maria-picasso">https:/
 /www.agenda.ad/activitat/escaldes-engordany/lletres/presenta
 cio-del-llibre-amb-veu-de-dona-de-jordi-novell-i-maria-picas
 so</a><br/></FONT></BODY></HTML>
END:VEVENT
END:VCALENDAR