BEGIN:VCALENDAR
VERSION:2.0
METHOD:PUBLISH
PRODID:-//Agenda.ad//NONSGML v1.0//EN
BEGIN:VEVENT
CLASS:PUBLIC
UID:8fd21382671849c22fac094ed89c5e5c@agenda.ad
DTSTAMP:20260424T105447Z
DTSTART:20260424T220000Z
DTEND:20260424T220000Z
SUMMARY:<span lang="ES-TRAD">Presentaci&oacute; del llibre 'La vida &eacute;s un joc qu&agrave;ntic'</span>
DESCRIPTION:\n\nMés informació\nhttps://www.agenda.ad/activitat/escald
 es-engordany/lletres/presentacio-del-llibre-la-vida-es-un-jo
 c-quantic-\n
LOCATION:Hotel Roc Blanc
SEQUENCE:0
TRANSP:OPAQUE
X-ALT-DESC;FMTTYPE=text/html:<!DOCTYPE HTML PUBLIC "-//W3C//DTD HTML 3.2//EN"><HTML><HEAD
 ><TITLE></TITLE></HEAD><BODY><FONT FACE="Arial" SIZE=2><br/>
 <br/><b>Més informació</b><br/><a href="https://www.agenda
 .ad/activitat/escaldes-engordany/lletres/presentacio-del-lli
 bre-la-vida-es-un-joc-quantic-">https://www.agenda.ad/activi
 tat/escaldes-engordany/lletres/presentacio-del-llibre-la-vid
 a-es-un-joc-quantic-</a><br/></FONT></BODY></HTML>
END:VEVENT
END:VCALENDAR