BEGIN:VCALENDAR
VERSION:2.0
METHOD:PUBLISH
PRODID:-//Agenda.ad//NONSGML v1.0//EN
BEGIN:VEVENT
CLASS:PUBLIC
UID:629981fb73a7d90e1caec7f04430e614@agenda.ad
DTSTAMP:20260419T190305Z
DTSTART:20260309T230000Z
DTEND:20260309T230000Z
SUMMARY:<p>Presentaci&oacute; del llibre &lsquo;Divendres 13&rsquo; de Joan Mart&iacute;nez Benazet i Eric Jover</p>
DESCRIPTION:\n\nMés informació\nhttps://www.agenda.ad/activitat/escald
 es-engordany/lletres/presentacio-del-llibre-‘divendres-13-
 de-joan-martinez-benazet-i-eric-jover\n\n\nOrganitza\nAnem E
 ditors
LOCATION:Sala d’actes del Comú
SEQUENCE:0
TRANSP:OPAQUE
X-ALT-DESC;FMTTYPE=text/html:<!DOCTYPE HTML PUBLIC "-//W3C//DTD HTML 3.2//EN"><HTML><HEAD
 ><TITLE></TITLE></HEAD><BODY><FONT FACE="Arial" SIZE=2><br/>
 <br/><b>Més informació</b><br/><a href="https://www.agenda
 .ad/activitat/escaldes-engordany/lletres/presentacio-del-lli
 bre-‘divendres-13-de-joan-martinez-benazet-i-eric-jover">h
 ttps://www.agenda.ad/activitat/escaldes-engordany/lletres/pr
 esentacio-del-llibre-‘divendres-13-de-joan-martinez-benaze
 t-i-eric-jover</a><br/><br/><br/><b>Organitza</b><br/>Anem E
 ditors</FONT></BODY></HTML>
END:VEVENT
END:VCALENDAR