BEGIN:VCALENDAR
VERSION:2.0
METHOD:PUBLISH
PRODID:-//Agenda.ad//NONSGML v1.0//EN
BEGIN:VEVENT
CLASS:PUBLIC
UID:0192cda96c3b4c5ae4396a2cdf3c7434@agenda.ad
DTSTAMP:20260422T004144Z
DTSTART:20191018T220000Z
DTEND:20191018T220000Z
SUMMARY:Ruta d&rsquo;Engordany
DESCRIPTION:\n\nMÃ©s informaciÃ³\nhttps://www.agenda.ad/activitat/escald
 es-engordany/mes-cultura/-andorra-i-el-patrimoni-mundial-de-
 la-unesco-historia-i-perspectives-\n\n\nOrganitza\nInstitut 
 dâ€™Estudis Andorrans
LOCATION:PlaÃ§a Santa Anna
SEQUENCE:0
TRANSP:OPAQUE
X-ALT-DESC;FMTTYPE=text/html:<!DOCTYPE HTML PUBLIC "-//W3C//DTD HTML 3.2//EN"><HTML><HEAD
 ><TITLE></TITLE></HEAD><BODY><FONT FACE="Arial" SIZE=2><br/>
 <br/><b>MÃ©s informaciÃ³</b><br/><a href="https://www.agenda
 .ad/activitat/escaldes-engordany/mes-cultura/-andorra-i-el-p
 atrimoni-mundial-de-la-unesco-historia-i-perspectives-">http
 s://www.agenda.ad/activitat/escaldes-engordany/mes-cultura/-
 andorra-i-el-patrimoni-mundial-de-la-unesco-historia-i-persp
 ectives-</a><br/><br/><br/><b>Organitza</b><br/>Institut dâ€
 ™Estudis Andorrans</FONT></BODY></HTML>
END:VEVENT
END:VCALENDAR