BEGIN:VCALENDAR
VERSION:2.0
METHOD:PUBLISH
PRODID:-//Agenda.ad//NONSGML v1.0//EN
BEGIN:VEVENT
CLASS:PUBLIC
UID:019b6c80bb6569f302ab22eafcb1b1d2@agenda.ad
DTSTAMP:20260422T003756Z
DTSTART:20191018T220000Z
DTEND:20191018T220000Z
SUMMARY:'Cam&iacute; hidroel&egrave;ctric d&rsquo;Engolasters
DESCRIPTION:\n\nMés informació\nhttps://www.agenda.ad/activitat/escald
 es-engordany/mes-cultura/-cami-hidroelectric-dengolasters\n\
 n\nOrganitza\nInstitut d’Estudis Andorrans
LOCATION:Camí hidroelèctric d'Engolasters
SEQUENCE:0
TRANSP:OPAQUE
X-ALT-DESC;FMTTYPE=text/html:<!DOCTYPE HTML PUBLIC "-//W3C//DTD HTML 3.2//EN"><HTML><HEAD
 ><TITLE></TITLE></HEAD><BODY><FONT FACE="Arial" SIZE=2><br/>
 <br/><b>Més informació</b><br/><a href="https://www.agenda
 .ad/activitat/escaldes-engordany/mes-cultura/-cami-hidroelec
 tric-dengolasters">https://www.agenda.ad/activitat/escaldes-
 engordany/mes-cultura/-cami-hidroelectric-dengolasters</a><b
 r/><br/><br/><b>Organitza</b><br/>Institut d’Estudis Andor
 rans</FONT></BODY></HTML>
END:VEVENT
END:VCALENDAR