BEGIN:VCALENDAR
VERSION:2.0
METHOD:PUBLISH
PRODID:-//Agenda.ad//NONSGML v1.0//EN
BEGIN:VEVENT
CLASS:PUBLIC
UID:bf90bd164aea43b915e238f572c3ddeb@agenda.ad
DTSTAMP:20260422T015937Z
DTSTART:20191006T220000Z
DTEND:20191006T220000Z
SUMMARY:<span>'El poble desaparegut del Fener'</span>
DESCRIPTION:A càrrec d'Albert Villaró.\n\nMés informació
 \nhttps://www.agenda.ad/activitat/escaldes-engordany/mes-cul
 tura/-el-poble-desaparegut-del-fener--11123\nwww.cenma.ad&nb
 sp; (+376) 742 630\n\nOrganitza\nInstitut d’Estudis Andorr
 ans
LOCATION:Parc infantil
SEQUENCE:0
TRANSP:OPAQUE
X-ALT-DESC;FMTTYPE=text/html:<!DOCTYPE HTML PUBLIC "-//W3C//DTD HTML 3.2//EN"><HTML><HEAD
 ><TITLE></TITLE></HEAD><BODY><FONT FACE="Arial" SIZE=2>A c&a
 grave;rrec d'Albert Villar&oacute;.<br/><br/><b>Més informa
 ció</b><br/><a href="https://www.agenda.ad/activitat/escald
 es-engordany/mes-cultura/-el-poble-desaparegut-del-fener--11
 123">https://www.agenda.ad/activitat/escaldes-engordany/mes-
 cultura/-el-poble-desaparegut-del-fener--11123</a><br/>www.c
 enma.ad&nbsp; (+376) 742 630<br/><br/><b>Organitza</b><br/>I
 nstitut d’Estudis Andorrans</FONT></BODY></HTML>
END:VEVENT
END:VCALENDAR