BEGIN:VCALENDAR
VERSION:2.0
METHOD:PUBLISH
PRODID:-//Agenda.ad//NONSGML v1.0//EN
BEGIN:VEVENT
CLASS:PUBLIC
UID:91f446522f01b7984eec0eb1b36b9da9@agenda.ad
DTSTAMP:20260422T015821Z
DTSTART:20191011T220000Z
DTEND:20191011T220000Z
SUMMARY:<span>'Jornada dona i joventut'</span>
DESCRIPTION:Dins del projecte Participació Acció i Servei 
 (PAS)\n\nMés informació\nhttps://www.agenda.ad/activitat/e
 scaldes-engordany/mes-cultura/-jornada-dona-i-joventut-\n\n\
 nOrganitza\nAlumnes de l'Escola Andorrana de Batxillerat
LOCATION:Sala Prat del Roure
SEQUENCE:0
TRANSP:OPAQUE
X-ALT-DESC;FMTTYPE=text/html:<!DOCTYPE HTML PUBLIC "-//W3C//DTD HTML 3.2//EN"><HTML><HEAD
 ><TITLE></TITLE></HEAD><BODY><FONT FACE="Arial" SIZE=2><span
 >Dins del projecte Participaci&oacute; Acci&oacute; i Servei
  (PAS)</span><br/><br/><b>Més informació</b><br/><a href="
 https://www.agenda.ad/activitat/escaldes-engordany/mes-cultu
 ra/-jornada-dona-i-joventut-">https://www.agenda.ad/activita
 t/escaldes-engordany/mes-cultura/-jornada-dona-i-joventut-</
 a><br/><br/><br/><b>Organitza</b><br/>Alumnes de l'Escola An
 dorrana de Batxillerat</FONT></BODY></HTML>
END:VEVENT
END:VCALENDAR