BEGIN:VCALENDAR
VERSION:2.0
METHOD:PUBLISH
PRODID:-//Agenda.ad//NONSGML v1.0//EN
BEGIN:VEVENT
CLASS:PUBLIC
UID:9aa50a496583aa74534168fe82ea1dc3@agenda.ad
DTSTAMP:20260422T015959Z
DTSTART:20191012T220000Z
DTEND:20191012T220000Z
SUMMARY:<p>'Que no nos frunjan la fiesta'</p>
DESCRIPTION:Monòleg de David Guapo\n\nMés informació\nhttps://w
 ww.agenda.ad/activitat/escaldes-engordany/mes-cultura/-que-n
 o-nos-frunjan-la-fiesta-\n\n\nOrganitza\nMeriendacena Produc
 ciones SLU
LOCATION:Sala Prat del Roure
SEQUENCE:0
TRANSP:OPAQUE
X-ALT-DESC;FMTTYPE=text/html:<!DOCTYPE HTML PUBLIC "-//W3C//DTD HTML 3.2//EN"><HTML><HEAD
 ><TITLE></TITLE></HEAD><BODY><FONT FACE="Arial" SIZE=2>Mon&o
 grave;leg de David Guapo<br/><br/><b>Més informació</b><br
 /><a href="https://www.agenda.ad/activitat/escaldes-engordan
 y/mes-cultura/-que-no-nos-frunjan-la-fiesta-">https://www.ag
 enda.ad/activitat/escaldes-engordany/mes-cultura/-que-no-nos
 -frunjan-la-fiesta-</a><br/><br/><br/><b>Organitza</b><br/>M
 eriendacena Producciones SLU</FONT></BODY></HTML>
END:VEVENT
END:VCALENDAR