BEGIN:VCALENDAR
VERSION:2.0
METHOD:PUBLISH
PRODID:-//Agenda.ad//NONSGML v1.0//EN
BEGIN:VEVENT
CLASS:PUBLIC
UID:66da6461c13dfa0fcb341c54505bd74c@agenda.ad
DTSTAMP:20260419T175402Z
DTSTART:20260321T230000Z
DTEND:20260321T230000Z
SUMMARY:<span>Espectacle de m&agrave;gia de Alexander Main 'La m&agrave;gia existeix'</span>
DESCRIPTION:\n\nMés informació\nhttps://www.agenda.ad/activitat/escald
 es-engordany/mes-cultura/espectacle-de-magia-de-alexander-ma
 in-la-magia-existeix-\nwww.naimanweb.com\n\nOrganitza\nNaima
 n Events
LOCATION:Sala d’actes del Comú
SEQUENCE:0
TRANSP:OPAQUE
X-ALT-DESC;FMTTYPE=text/html:<!DOCTYPE HTML PUBLIC "-//W3C//DTD HTML 3.2//EN"><HTML><HEAD
 ><TITLE></TITLE></HEAD><BODY><FONT FACE="Arial" SIZE=2><br/>
 <br/><b>Més informació</b><br/><a href="https://www.agenda
 .ad/activitat/escaldes-engordany/mes-cultura/espectacle-de-m
 agia-de-alexander-main-la-magia-existeix-">https://www.agend
 a.ad/activitat/escaldes-engordany/mes-cultura/espectacle-de-
 magia-de-alexander-main-la-magia-existeix-</a><br/>www.naima
 nweb.com<br/><br/><b>Organitza</b><br/>Naiman Events</FONT><
 /BODY></HTML>
END:VEVENT
END:VCALENDAR