BEGIN:VCALENDAR
VERSION:2.0
METHOD:PUBLISH
PRODID:-//Agenda.ad//NONSGML v1.0//EN
BEGIN:VEVENT
CLASS:PUBLIC
UID:6e7e6e3b49f796ae95f77d8a220867fe@agenda.ad
DTSTAMP:20260422T015942Z
DTSTART:20191012T220000Z
DTEND:20191012T220000Z
SUMMARY:<h1>La geologia i el paisatge a la Vall del Madriu&middot;Perafita&middot;Claror</h1>
DESCRIPTION:\n\nMés informació\nhttps://www.agenda.ad/activitat/escald
 es-engordany/mes-cultura/la-geologia-i-el-paisatge-a-la-vall
 -del-madriuperafitaclaror\n\n\nOrganitza\nInstitut d’Estud
 is Andorrans
LOCATION:Camí de Ràmio a Fontverd
SEQUENCE:0
TRANSP:OPAQUE
X-ALT-DESC;FMTTYPE=text/html:<!DOCTYPE HTML PUBLIC "-//W3C//DTD HTML 3.2//EN"><HTML><HEAD
 ><TITLE></TITLE></HEAD><BODY><FONT FACE="Arial" SIZE=2><br/>
 <br/><b>Més informació</b><br/><a href="https://www.agenda
 .ad/activitat/escaldes-engordany/mes-cultura/la-geologia-i-e
 l-paisatge-a-la-vall-del-madriuperafitaclaror">https://www.a
 genda.ad/activitat/escaldes-engordany/mes-cultura/la-geologi
 a-i-el-paisatge-a-la-vall-del-madriuperafitaclaror</a><br/><
 br/><br/><b>Organitza</b><br/>Institut d’Estudis Andorrans
 </FONT></BODY></HTML>
END:VEVENT
END:VCALENDAR