BEGIN:VCALENDAR
VERSION:2.0
METHOD:PUBLISH
PRODID:-//Agenda.ad//NONSGML v1.0//EN
BEGIN:VEVENT
CLASS:PUBLIC
UID:1250699e083b7bd68afd5e02c707ae59@agenda.ad
DTSTAMP:20260422T003929Z
DTSTART:20191019T220000Z
DTEND:20191019T220000Z
SUMMARY:Vall del Madriu - Perafita - Claror
DESCRIPTION:\n\nMés informació\nhttps://www.agenda.ad/activitat/escald
 es-engordany/mes-cultura/vall-del-madriu-perafita-claror\n\n
 \nOrganitza\nInstitut d’Estudis Andorrans
LOCATION:Vall del Madriu-Perafita-Claror
SEQUENCE:0
TRANSP:OPAQUE
X-ALT-DESC;FMTTYPE=text/html:<!DOCTYPE HTML PUBLIC "-//W3C//DTD HTML 3.2//EN"><HTML><HEAD
 ><TITLE></TITLE></HEAD><BODY><FONT FACE="Arial" SIZE=2><br/>
 <br/><b>Més informació</b><br/><a href="https://www.agenda
 .ad/activitat/escaldes-engordany/mes-cultura/vall-del-madriu
 -perafita-claror">https://www.agenda.ad/activitat/escaldes-e
 ngordany/mes-cultura/vall-del-madriu-perafita-claror</a><br/
 ><br/><br/><b>Organitza</b><br/>Institut d’Estudis Andorra
 ns</FONT></BODY></HTML>
END:VEVENT
END:VCALENDAR