BEGIN:VCALENDAR
VERSION:2.0
METHOD:PUBLISH
PRODID:-//Agenda.ad//NONSGML v1.0//EN
BEGIN:VEVENT
CLASS:PUBLIC
UID:6e8203b3a097fb5de3089a0696ef44a5@agenda.ad
DTSTAMP:20260422T003825Z
DTSTART:20191018T220000Z
DTEND:20191018T220000Z
SUMMARY:Vetllada de balls de sal&oacute;
DESCRIPTION:Amb el grup Paris La Nuit.\n\nMés informació\nhttps://www.
 agenda.ad/activitat/escaldes-engordany/mes-cultura/vetllada-
 de-balls-de-salo-9711\n\n\nOrganitza\nAssociació Balland
LOCATION:Sala Prat del Roure
SEQUENCE:0
TRANSP:OPAQUE
X-ALT-DESC;FMTTYPE=text/html:<!DOCTYPE HTML PUBLIC "-//W3C//DTD HTML 3.2//EN"><HTML><HEAD
 ><TITLE></TITLE></HEAD><BODY><FONT FACE="Arial" SIZE=2>Amb e
 l g<span>rup</span><strong> Paris La Nuit.</strong><br/><br/
 ><b>Més informació</b><br/><a href="https://www.agenda.ad/
 activitat/escaldes-engordany/mes-cultura/vetllada-de-balls-d
 e-salo-9711">https://www.agenda.ad/activitat/escaldes-engord
 any/mes-cultura/vetllada-de-balls-de-salo-9711</a><br/><br/>
 <br/><b>Organitza</b><br/>Associació Balland</FONT></BODY><
 /HTML>
END:VEVENT
END:VCALENDAR