BEGIN:VCALENDAR
VERSION:2.0
METHOD:PUBLISH
PRODID:-//Agenda.ad//NONSGML v1.0//EN
BEGIN:VEVENT
CLASS:PUBLIC
UID:ed2526cf32de6cbc24f145907c2a3ae6@agenda.ad
DTSTAMP:20260422T153947Z
DTSTART:20260428T220000Z
DTEND:20260428T220000Z
SUMMARY:DIA INTERNACIONAL DEL JAZZ
DESCRIPTION:\n\nMés informació\nhttps://www.agenda.ad/activitat/escald
 es-engordany/musica/dia-internacional-del-jazz-23921\n
LOCATION:Vestíbul de la Sala Prat del Roure
SEQUENCE:0
TRANSP:OPAQUE
X-ALT-DESC;FMTTYPE=text/html:<!DOCTYPE HTML PUBLIC "-//W3C//DTD HTML 3.2//EN"><HTML><HEAD
 ><TITLE></TITLE></HEAD><BODY><FONT FACE="Arial" SIZE=2><br/>
 <br/><b>Més informació</b><br/><a href="https://www.agenda
 .ad/activitat/escaldes-engordany/musica/dia-internacional-de
 l-jazz-23921">https://www.agenda.ad/activitat/escaldes-engor
 dany/musica/dia-internacional-del-jazz-23921</a><br/></FONT>
 </BODY></HTML>
END:VEVENT
END:VCALENDAR