BEGIN:VCALENDAR
VERSION:2.0
METHOD:PUBLISH
PRODID:-//Agenda.ad//NONSGML v1.0//EN
BEGIN:VEVENT
CLASS:PUBLIC
UID:f1a6797d6f14e9fad30653be215cf564@agenda.ad
DTSTAMP:20260424T072217Z
DTSTART:20191206T230000Z
DTEND:20191206T230000Z
SUMMARY:Nit g&ograve;spel &middot;The Campbell Brothers
DESCRIPTION:\n\nMés informació\nhttps://www.agenda.ad/activitat/escald
 es-engordany/musica/nit-gospel-the-campbell-brothers\n
LOCATION:Església de Sant Pere Màrtir
SEQUENCE:0
TRANSP:OPAQUE
X-ALT-DESC;FMTTYPE=text/html:<!DOCTYPE HTML PUBLIC "-//W3C//DTD HTML 3.2//EN"><HTML><HEAD
 ><TITLE></TITLE></HEAD><BODY><FONT FACE="Arial" SIZE=2><br/>
 <br/><b>Més informació</b><br/><a href="https://www.agenda
 .ad/activitat/escaldes-engordany/musica/nit-gospel-the-campb
 ell-brothers">https://www.agenda.ad/activitat/escaldes-engor
 dany/musica/nit-gospel-the-campbell-brothers</a><br/></FONT>
 </BODY></HTML>
END:VEVENT
END:VCALENDAR