BEGIN:VCALENDAR
VERSION:2.0
METHOD:PUBLISH
PRODID:-//Agenda.ad//NONSGML v1.0//EN
BEGIN:VEVENT
CLASS:PUBLIC
UID:2c9a193eafd636fff14bfff874451e8d@agenda.ad
DTSTAMP:20260419T190457Z
DTSTART:20260311T230000Z
DTEND:20260311T230000Z
SUMMARY:QUERIDA AMIGA: LAS VERDADERAS CARTAS DE ELENA FRANCIS<br />en el marc de la programaci&oacute; <em>RESSON&Agrave;NCIES. Veus que vibren, hist&ograve;ries que transformen</em>
DESCRIPTION:\n\nMés informació\nhttps://www.agenda.ad/activitat/escald
 es-engordany/teatre-i-dansa/querida-amiga-las-verdaderas-car
 tas-de-elena-francis-en-el-marc-de-la-programacio-ressonanci
 es-veus-que-vibren-histories-que-transformen\n
LOCATION:Sala d’actes del Comú
SEQUENCE:0
TRANSP:OPAQUE
X-ALT-DESC;FMTTYPE=text/html:<!DOCTYPE HTML PUBLIC "-//W3C//DTD HTML 3.2//EN"><HTML><HEAD
 ><TITLE></TITLE></HEAD><BODY><FONT FACE="Arial" SIZE=2><br/>
 <br/><b>Més informació</b><br/><a href="https://www.agenda
 .ad/activitat/escaldes-engordany/teatre-i-dansa/querida-amig
 a-las-verdaderas-cartas-de-elena-francis-en-el-marc-de-la-pr
 ogramacio-ressonancies-veus-que-vibren-histories-que-transfo
 rmen">https://www.agenda.ad/activitat/escaldes-engordany/tea
 tre-i-dansa/querida-amiga-las-verdaderas-cartas-de-elena-fra
 ncis-en-el-marc-de-la-programacio-ressonancies-veus-que-vibr
 en-histories-que-transformen</a><br/></FONT></BODY></HTML>
END:VEVENT
END:VCALENDAR