BEGIN:VCALENDAR
VERSION:2.0
METHOD:PUBLISH
PRODID:-//Agenda.ad//NONSGML v1.0//EN
BEGIN:VEVENT
CLASS:PUBLIC
UID:92310085e421d24f025eab05171e5f7a@agenda.ad
DTSTAMP:20260424T092847Z
DTSTART:20191216T230000Z
DTEND:20191216T230000Z
SUMMARY:'L&rsquo;esport com a met&agrave;fora de la vida'
DESCRIPTION:Amb David Murias.\n\nMÃ©s informaciÃ³\nhttps://www.agenda.ad
 /activitat/la-massana/conferencies/-lesport-com-a-metafora-d
 e-la-vida-\n\n\nOrganitza\nAnyÃ³s Park
LOCATION:AnyÃ³sPark
SEQUENCE:0
TRANSP:OPAQUE
X-ALT-DESC;FMTTYPE=text/html:<!DOCTYPE HTML PUBLIC "-//W3C//DTD HTML 3.2//EN"><HTML><HEAD
 ><TITLE></TITLE></HEAD><BODY><FONT FACE="Arial" SIZE=2><span
 >Amb David Murias.</span><br/><br/><b>MÃ©s informaciÃ³</b><b
 r/><a href="https://www.agenda.ad/activitat/la-massana/confe
 rencies/-lesport-com-a-metafora-de-la-vida-">https://www.age
 nda.ad/activitat/la-massana/conferencies/-lesport-com-a-meta
 fora-de-la-vida-</a><br/><br/><br/><b>Organitza</b><br/>AnyÃ
 ³s Park</FONT></BODY></HTML>
END:VEVENT
END:VCALENDAR