BEGIN:VCALENDAR
VERSION:2.0
METHOD:PUBLISH
PRODID:-//Agenda.ad//NONSGML v1.0//EN
BEGIN:VEVENT
CLASS:PUBLIC
UID:e5a8c3e14c5539704aee1fa26acf0321@agenda.ad
DTSTAMP:20260422T060704Z
DTSTART:20190129T230000Z
DTEND:20190129T230000Z
SUMMARY:<span>Cicle Cinema de Muntanya i Viatges La Massana - Ordino</span>
DESCRIPTION:"SUDAN, l’antic regne dels faraons negres"\n\nMés inf
 ormació\nhttps://www.agenda.ad/activitat/la-massana/confere
 ncies/cicle-cinema-de-muntanya-i-viatges-la-massana-ordino-8
 242\nDepartament de CulturaComú de la MassanaTel. 736
  900www.lamassana.ad\n\nOrganitza\nComú d'Ordino i Comú de
  la Massana
LOCATION:Teatre de Les Fontetes
SEQUENCE:0
TRANSP:OPAQUE
X-ALT-DESC;FMTTYPE=text/html:<!DOCTYPE HTML PUBLIC "-//W3C//DTD HTML 3.2//EN"><HTML><HEAD
 ><TITLE></TITLE></HEAD><BODY><FONT FACE="Arial" SIZE=2>"<str
 ong>SUDAN, </strong>l&rsquo;antic regne dels faraons negres"
 <br/><br/><b>Més informació</b><br/><a href="https://www.a
 genda.ad/activitat/la-massana/conferencies/cicle-cinema-de-m
 untanya-i-viatges-la-massana-ordino-8242">https://www.agenda
 .ad/activitat/la-massana/conferencies/cicle-cinema-de-muntan
 ya-i-viatges-la-massana-ordino-8242</a><br/>Departament de C
 ulturaCom&uacute; de la MassanaTel. 736 900www.lamassana.ad<
 br/><br/><b>Organitza</b><br/>Comú d'Ordino i Comú de la M
 assana</FONT></BODY></HTML>
END:VEVENT
END:VCALENDAR