BEGIN:VCALENDAR
VERSION:2.0
METHOD:PUBLISH
PRODID:-//Agenda.ad//NONSGML v1.0//EN
BEGIN:VEVENT
CLASS:PUBLIC
UID:1aa9a19a3c9414301abdacb4c7ec7166@agenda.ad
DTSTAMP:20260422T044134Z
DTSTART:20190205T230000Z
DTEND:20190205T230000Z
SUMMARY:<span>Cicle Cinema de Muntanya i Viatges La Massana - Ordino</span>
DESCRIPTION:"HAKUNA MATATA: descobrint Tanganyika "\n\nMés informació\
 nhttps://www.agenda.ad/activitat/la-massana/conferencies/cic
 le-cinema-de-muntanya-i-viatges-la-massana-ordino-9748\nDepa
 rtament de CulturaComú de la MassanaTel. 736 900www.l
 amassana.ad\n\nOrganitza\nComú d'Ordino i Comú de la Massa
 na
LOCATION:Teatre de Les Fontetes
SEQUENCE:0
TRANSP:OPAQUE
X-ALT-DESC;FMTTYPE=text/html:<!DOCTYPE HTML PUBLIC "-//W3C//DTD HTML 3.2//EN"><HTML><HEAD
 ><TITLE></TITLE></HEAD><BODY><FONT FACE="Arial" SIZE=2>"<str
 ong>HAKUNA MATATA</strong>: descobrint Tanganyika "<br/><br/
 ><b>Més informació</b><br/><a href="https://www.agenda.ad/
 activitat/la-massana/conferencies/cicle-cinema-de-muntanya-i
 -viatges-la-massana-ordino-9748">https://www.agenda.ad/activ
 itat/la-massana/conferencies/cicle-cinema-de-muntanya-i-viat
 ges-la-massana-ordino-9748</a><br/>Departament de CulturaCom
 &uacute; de la MassanaTel. 736 900www.lamassana.ad<br/><br/>
 <b>Organitza</b><br/>Comú d'Ordino i Comú de la Massana</F
 ONT></BODY></HTML>
END:VEVENT
END:VCALENDAR