BEGIN:VCALENDAR
VERSION:2.0
METHOD:PUBLISH
PRODID:-//Agenda.ad//NONSGML v1.0//EN
BEGIN:VEVENT
CLASS:PUBLIC
UID:9cdc525312eae7650e951743bb12bf0e@agenda.ad
DTSTAMP:20260422T061422Z
DTSTART:20190219T230000Z
DTEND:20190219T230000Z
SUMMARY:<span>Cicle Cinema de Muntanya i Viatges La Massana - Ordino</span>
DESCRIPTION:"UNA VISIÓ DEL MÓN: aventures i desventures d&
 rsquo;una volta al món en solitari"\n\nMés informaci
 ó\nhttps://www.agenda.ad/activitat/la-massana/conferencies/
 cicle-cinema-de-muntanya-i-viatges-la-massana-ordino-9749\nD
 epartament de CulturaComú de la MassanaTel. 736 900ww
 w.lamassana.ad\n\nOrganitza\nComú d'Ordino i Comú de la Ma
 ssana
LOCATION:Teatre de Les Fontetes
SEQUENCE:0
TRANSP:OPAQUE
X-ALT-DESC;FMTTYPE=text/html:<!DOCTYPE HTML PUBLIC "-//W3C//DTD HTML 3.2//EN"><HTML><HEAD
 ><TITLE></TITLE></HEAD><BODY><FONT FACE="Arial" SIZE=2>"<str
 ong>UNA VISI&Oacute; DEL M&Oacute;N</strong>: aventures i de
 sventures d&rsquo;una volta al m&oacute;n en solitari"<br/><
 br/><b>Més informació</b><br/><a href="https://www.agenda.
 ad/activitat/la-massana/conferencies/cicle-cinema-de-muntany
 a-i-viatges-la-massana-ordino-9749">https://www.agenda.ad/ac
 tivitat/la-massana/conferencies/cicle-cinema-de-muntanya-i-v
 iatges-la-massana-ordino-9749</a><br/>Departament de Cultura
 Com&uacute; de la MassanaTel. 736 900www.lamassana.ad<br/><b
 r/><b>Organitza</b><br/>Comú d'Ordino i Comú de la Massana
 </FONT></BODY></HTML>
END:VEVENT
END:VCALENDAR