BEGIN:VCALENDAR
VERSION:2.0
METHOD:PUBLISH
PRODID:-//Agenda.ad//NONSGML v1.0//EN
BEGIN:VEVENT
CLASS:PUBLIC
UID:181b2ba1d5dbdbb6fb794947b8834afc@agenda.ad
DTSTAMP:20260422T061417Z
DTSTART:20190305T230000Z
DTEND:20190305T230000Z
SUMMARY:<span>Cicle Cinema de Muntanya i Viatges La Massana - Ordino</span>
DESCRIPTION:"COLÒMBIA. EL SECRET MÉS BEN GUARDAT"\n\nMés 
 informació\nhttps://www.agenda.ad/activitat/la-massana/conf
 erencies/cicle-cinema-de-muntanya-i-viatges-la-massana-ordin
 o-9750\nDepartament de CulturaComú de la MassanaTel. 
 736 900www.lamassana.ad\n\nOrganitza\nComú d'Ordino i Comú
  de la Massana
LOCATION:Teatre de Les Fontetes
SEQUENCE:0
TRANSP:OPAQUE
X-ALT-DESC;FMTTYPE=text/html:<!DOCTYPE HTML PUBLIC "-//W3C//DTD HTML 3.2//EN"><HTML><HEAD
 ><TITLE></TITLE></HEAD><BODY><FONT FACE="Arial" SIZE=2>"<str
 ong>COL&Ograve;MBIA</strong>. EL SECRET M&Eacute;S BEN GUARD
 AT"<br/><br/><b>Més informació</b><br/><a href="https://ww
 w.agenda.ad/activitat/la-massana/conferencies/cicle-cinema-d
 e-muntanya-i-viatges-la-massana-ordino-9750">https://www.age
 nda.ad/activitat/la-massana/conferencies/cicle-cinema-de-mun
 tanya-i-viatges-la-massana-ordino-9750</a><br/>Departament d
 e CulturaCom&uacute; de la MassanaTel. 736 900www.lamassana.
 ad<br/><br/><b>Organitza</b><br/>Comú d'Ordino i Comú de l
 a Massana</FONT></BODY></HTML>
END:VEVENT
END:VCALENDAR