BEGIN:VCALENDAR
VERSION:2.0
METHOD:PUBLISH
PRODID:-//Agenda.ad//NONSGML v1.0//EN
BEGIN:VEVENT
CLASS:PUBLIC
UID:d2a04e428ccf2444bf4effebb51aaf60@agenda.ad
DTSTAMP:20260422T060825Z
DTSTART:20190326T230000Z
DTEND:20190326T230000Z
SUMMARY:<span>Cicle de cinema de muntanya i viatges la Massana - Ordino</span>
DESCRIPTION:'The Walking Travel' · Viatge amb furgoneta fins
  al Cap Nord\n\nMés informació\nhttps://www.agenda.ad/acti
 vitat/la-massana/conferencies/cicle-cinema-de-muntanya-i-via
 tges-la-massana-ordino-9751\nDepartament de CulturaCom&uacut
 e; de la MassanaTel. 736 900www.lamassana.ad\n\nOrganitza\nC
 omú d'Ordino i Comú de la Massana
LOCATION:Teatre de Les Fontetes
SEQUENCE:0
TRANSP:OPAQUE
X-ALT-DESC;FMTTYPE=text/html:<!DOCTYPE HTML PUBLIC "-//W3C//DTD HTML 3.2//EN"><HTML><HEAD
 ><TITLE></TITLE></HEAD><BODY><FONT FACE="Arial" SIZE=2><stro
 ng>'The Walking Travel' &middot;</strong><span>&nbsp;Viatge 
 amb furgoneta fins al Cap Nord</span><br/><br/><b>Més infor
 mació</b><br/><a href="https://www.agenda.ad/activitat/la-m
 assana/conferencies/cicle-cinema-de-muntanya-i-viatges-la-ma
 ssana-ordino-9751">https://www.agenda.ad/activitat/la-massan
 a/conferencies/cicle-cinema-de-muntanya-i-viatges-la-massana
 -ordino-9751</a><br/>Departament de CulturaCom&uacute; de la
  MassanaTel. 736 900www.lamassana.ad<br/><br/><b>Organitza</
 b><br/>Comú d'Ordino i Comú de la Massana</FONT></BODY></H
 TML>
END:VEVENT
END:VCALENDAR