BEGIN:VCALENDAR
VERSION:2.0
METHOD:PUBLISH
PRODID:-//Agenda.ad//NONSGML v1.0//EN
BEGIN:VEVENT
CLASS:PUBLIC
UID:c79ad40578303567809dd45300a46c0e@agenda.ad
DTSTAMP:20260421T123247Z
DTSTART:20260611T220000Z
DTEND:20260612T220000Z
SUMMARY:<h1 class="my-3 text-3xl font-bold">IV Festival d'Astronomia &middot; Andorra Comapedrosa</h1>
DESCRIPTION:El Festival d’Astronomia Andorra Comapedrosa convert
 irà la parròquia en un escenari excepcional pe
 r observar el cel nocturn i aprendre sobre astres i constel&
 middot;lacions. \n\nMés informació\nhttps://www.agenda.ad/
 activitat/la-massana/conferencies/iv-festival-d-astronomia-a
 ndorra-comapedrosa\n
LOCATION:Poble d'Arinsal
SEQUENCE:0
TRANSP:OPAQUE
X-ALT-DESC;FMTTYPE=text/html:<!DOCTYPE HTML PUBLIC "-//W3C//DTD HTML 3.2//EN"><HTML><HEAD
 ><TITLE></TITLE></HEAD><BODY><FONT FACE="Arial" SIZE=2><span
 >El Festival d&rsquo;Astronomia Andorra Comapedrosa conver
 tir&agrave; la parr&ograve;quia en un escenari excepcional p
 er observar el cel nocturn i aprendre sobre astres i constel
 &middot;lacions. <br /><br /></span><br/><br/><b>Més inform
 ació</b><br/><a href="https://www.agenda.ad/activitat/la-ma
 ssana/conferencies/iv-festival-d-astronomia-andorra-comapedr
 osa">https://www.agenda.ad/activitat/la-massana/conferencies
 /iv-festival-d-astronomia-andorra-comapedrosa</a><br/></FONT
 ></BODY></HTML>
END:VEVENT
END:VCALENDAR