BEGIN:VCALENDAR
VERSION:2.0
METHOD:PUBLISH
PRODID:-//Agenda.ad//NONSGML v1.0//EN
BEGIN:VEVENT
CLASS:PUBLIC
UID:3a7aa3268ca67c441aa9075a677bcb41@agenda.ad
DTSTAMP:20260424T101349Z
DTSTART:20191126T230000Z
DTEND:20191126T230000Z
SUMMARY:'Art a taula', amb Zoe
DESCRIPTION:Taller de cuina creativa i degustació gastronò
 mica.\n\nMés informació\nhttps://www.agenda.ad/activitat/l
 a-massana/cursos-i-tallers/-art-a-taula-amb-zoe\n\n\nOrganit
 za\nRestaurant & Pizzeria Angelo Massana
LOCATION:Restaurant & Pizzeria Angelo Massana
SEQUENCE:0
TRANSP:OPAQUE
X-ALT-DESC;FMTTYPE=text/html:<!DOCTYPE HTML PUBLIC "-//W3C//DTD HTML 3.2//EN"><HTML><HEAD
 ><TITLE></TITLE></HEAD><BODY><FONT FACE="Arial" SIZE=2>Talle
 r de cuina creativa i degustaci&oacute; gastron&ograve;mica.
 <br/><br/><b>Més informació</b><br/><a href="https://www.a
 genda.ad/activitat/la-massana/cursos-i-tallers/-art-a-taula-
 amb-zoe">https://www.agenda.ad/activitat/la-massana/cursos-i
 -tallers/-art-a-taula-amb-zoe</a><br/><br/><br/><b>Organitza
 </b><br/>Restaurant & Pizzeria Angelo Massana</FONT></BODY><
 /HTML>
END:VEVENT
END:VCALENDAR