BEGIN:VCALENDAR
VERSION:2.0
METHOD:PUBLISH
PRODID:-//Agenda.ad//NONSGML v1.0//EN
BEGIN:VEVENT
CLASS:PUBLIC
UID:f3c9832fe176b8bc38cf6d8bbd1dd97d@agenda.ad
DTSTAMP:20260422T044428Z
DTSTART:20190131T230000Z
DTEND:20190329T230000Z
SUMMARY:<span>Cicle de cinema de muntanya i viatges la Massana - Ordino</span>
DESCRIPTION:Exposició: “Renéixer”\n\nMés info
 rmació\nhttps://www.agenda.ad/activitat/la-massana/exposici
 ons/cicle-cinema-de-muntanya-i-viatges-la-massana-ordino-974
 7\nDepartament de CulturaComú de la MassanaTel. 736 9
 00www.lamassana.ad\n\nOrganitza\nComú d'Ordino i Comú de l
 a Massana
LOCATION:Biblioteca Comunal de la Massana
SEQUENCE:0
TRANSP:OPAQUE
X-ALT-DESC;FMTTYPE=text/html:<!DOCTYPE HTML PUBLIC "-//W3C//DTD HTML 3.2//EN"><HTML><HEAD
 ><TITLE></TITLE></HEAD><BODY><FONT FACE="Arial" SIZE=2>Expos
 ici&oacute;: &ldquo;Ren&eacute;ixer&rdquo;<br /><br /><br/><
 br/><b>Més informació</b><br/><a href="https://www.agenda.
 ad/activitat/la-massana/exposicions/cicle-cinema-de-muntanya
 -i-viatges-la-massana-ordino-9747">https://www.agenda.ad/act
 ivitat/la-massana/exposicions/cicle-cinema-de-muntanya-i-via
 tges-la-massana-ordino-9747</a><br/>Departament de CulturaCo
 m&uacute; de la MassanaTel. 736 900www.lamassana.ad<br/><br/
 ><b>Organitza</b><br/>Comú d'Ordino i Comú de la Massana</
 FONT></BODY></HTML>
END:VEVENT
END:VCALENDAR